BEGIN:VCALENDAR
VERSION:2.0
PRODID:-//Confrérie Gambrinus - ECPv5.9.1//NONSGML v1.0//EN
CALSCALE:GREGORIAN
METHOD:PUBLISH
X-WR-CALNAME:Confrérie Gambrinus
X-ORIGINAL-URL:https://gambrinus.lu
X-WR-CALDESC:évènements pour Confrérie Gambrinus
BEGIN:VTIMEZONE
TZID:Europe/Helsinki
BEGIN:DAYLIGHT
TZOFFSETFROM:+0200
TZOFFSETTO:+0300
TZNAME:EEST
DTSTART:20200329T010000
END:DAYLIGHT
BEGIN:STANDARD
TZOFFSETFROM:+0300
TZOFFSETTO:+0200
TZNAME:EET
DTSTART:20201025T010000
END:STANDARD
END:VTIMEZONE
BEGIN:VEVENT
DTSTART;TZID=Europe/Helsinki:20200912T080000
DTEND;TZID=Europe/Helsinki:20200912T170000
DTSTAMP:20211011T152830
CREATED:20200218T183600Z
LAST-MODIFIED:20200218T183800Z
UID:1183-1599897600-1599930000@gambrinus.lu
SUMMARY:Séminaire de brassage thématique : WINTER ALE
DESCRIPTION:
URL:https://gambrinus.lu/event/seminaire-de-brassage-thematique-winter-ale/
LOCATION:Musée National d’Art Brassicole – Wiltz\, 35\, rue du Château\, Wiltz\, L-9516\, Luxembourg
END:VEVENT
END:VCALENDAR